BEGIN:VCALENDAR
VERSION:2.0
PRODID:-//Tennisclub Eurasburg e.V. - ECPv6.15.20//NONSGML v1.0//EN
CALSCALE:GREGORIAN
METHOD:PUBLISH
X-ORIGINAL-URL:https://tc-eurasburg.de
X-WR-CALDESC:Veranstaltungen für Tennisclub Eurasburg e.V.
REFRESH-INTERVAL;VALUE=DURATION:PT1H
X-Robots-Tag:noindex
X-PUBLISHED-TTL:PT1H
BEGIN:VTIMEZONE
TZID:Europe/Berlin
BEGIN:DAYLIGHT
TZOFFSETFROM:+0100
TZOFFSETTO:+0200
TZNAME:CEST
DTSTART:20230326T010000
END:DAYLIGHT
BEGIN:STANDARD
TZOFFSETFROM:+0200
TZOFFSETTO:+0100
TZNAME:CET
DTSTART:20231029T010000
END:STANDARD
BEGIN:DAYLIGHT
TZOFFSETFROM:+0100
TZOFFSETTO:+0200
TZNAME:CEST
DTSTART:20240331T010000
END:DAYLIGHT
BEGIN:STANDARD
TZOFFSETFROM:+0200
TZOFFSETTO:+0100
TZNAME:CET
DTSTART:20241027T010000
END:STANDARD
BEGIN:DAYLIGHT
TZOFFSETFROM:+0100
TZOFFSETTO:+0200
TZNAME:CEST
DTSTART:20250330T010000
END:DAYLIGHT
BEGIN:STANDARD
TZOFFSETFROM:+0200
TZOFFSETTO:+0100
TZNAME:CET
DTSTART:20251026T010000
END:STANDARD
BEGIN:DAYLIGHT
TZOFFSETFROM:+0100
TZOFFSETTO:+0200
TZNAME:CEST
DTSTART:20260329T010000
END:DAYLIGHT
BEGIN:STANDARD
TZOFFSETFROM:+0200
TZOFFSETTO:+0100
TZNAME:CET
DTSTART:20261025T010000
END:STANDARD
BEGIN:DAYLIGHT
TZOFFSETFROM:+0100
TZOFFSETTO:+0200
TZNAME:CEST
DTSTART:20270328T010000
END:DAYLIGHT
BEGIN:STANDARD
TZOFFSETFROM:+0200
TZOFFSETTO:+0100
TZNAME:CET
DTSTART:20271031T010000
END:STANDARD
END:VTIMEZONE
BEGIN:VEVENT
DTSTART;TZID=Europe/Berlin:20260411T100000
DTEND;TZID=Europe/Berlin:20260411T150000
DTSTAMP:20260421T174810
CREATED:20260203T194233Z
LAST-MODIFIED:20260225T181326Z
UID:2541-1775901600-1775919600@tc-eurasburg.de
SUMMARY:Platzinstandsetzung
DESCRIPTION:
URL:https://tc-eurasburg.de/event/platzinstandsetzung-2
END:VEVENT
BEGIN:VEVENT
DTSTART;TZID=Europe/Berlin:20260129T193000
DTEND;TZID=Europe/Berlin:20260129T220000
DTSTAMP:20260421T174810
CREATED:20260114T174011Z
LAST-MODIFIED:20260114T174013Z
UID:2532-1769715000-1769724000@tc-eurasburg.de
SUMMARY:49.Mitgliederversammlung
DESCRIPTION:Herzliche Einladung
URL:https://tc-eurasburg.de/event/49-mitgliederversammlung
END:VEVENT
BEGIN:VEVENT
DTSTART;TZID=Europe/Berlin:20251213T160000
DTEND;TZID=Europe/Berlin:20251213T210000
DTSTAMP:20260421T174810
CREATED:20250507T164826Z
LAST-MODIFIED:20250507T164827Z
UID:2302-1765641600-1765659600@tc-eurasburg.de
SUMMARY:Nikolaus Feier 2025
DESCRIPTION:
URL:https://tc-eurasburg.de/event/nikolaus-feier-2025
END:VEVENT
BEGIN:VEVENT
DTSTART;TZID=Europe/Berlin:20250920T110000
DTEND;TZID=Europe/Berlin:20250920T160000
DTSTAMP:20260421T174810
CREATED:20250507T164730Z
LAST-MODIFIED:20250507T164731Z
UID:2300-1758366000-1758384000@tc-eurasburg.de
SUMMARY:Herbstturnier 2025
DESCRIPTION:
URL:https://tc-eurasburg.de/event/herbstturnier-2025
END:VEVENT
BEGIN:VEVENT
DTSTART;TZID=Europe/Berlin:20250920T100000
DTEND;TZID=Europe/Berlin:20250920T170000
DTSTAMP:20260421T174810
CREATED:20250507T164321Z
LAST-MODIFIED:20250620T102417Z
UID:2290-1758362400-1758387600@tc-eurasburg.de
SUMMARY:Clubmeisterschaft Herren Einzel/Doppel
DESCRIPTION:
URL:https://tc-eurasburg.de/event/clubmeisterschaft-herren-einzel-doppel
END:VEVENT
BEGIN:VEVENT
DTSTART;TZID=Europe/Berlin:20250830T100000
DTEND;TZID=Europe/Berlin:20250830T170000
DTSTAMP:20260421T174810
CREATED:20250507T164648Z
LAST-MODIFIED:20250507T164650Z
UID:2298-1756548000-1756573200@tc-eurasburg.de
SUMMARY:Otto-Schiller-Gedächtnisturnier 2025
DESCRIPTION:
URL:https://tc-eurasburg.de/event/otto-schiller-gedaechtnisturnier-2025
END:VEVENT
BEGIN:VEVENT
DTSTART;TZID=Europe/Berlin:20250725T140000
DTEND;TZID=Europe/Berlin:20250725T210000
DTSTAMP:20260421T174810
CREATED:20250507T164505Z
LAST-MODIFIED:20250507T164507Z
UID:2294-1753452000-1753477200@tc-eurasburg.de
SUMMARY:IWIS Turnier 2025
DESCRIPTION:
URL:https://tc-eurasburg.de/event/iwis-turnier-2025
END:VEVENT
BEGIN:VEVENT
DTSTART;TZID=Europe/Berlin:20250720T100000
DTEND;TZID=Europe/Berlin:20250720T200000
DTSTAMP:20260421T174810
CREATED:20250507T164422Z
LAST-MODIFIED:20250507T164424Z
UID:2292-1753005600-1753041600@tc-eurasburg.de
SUMMARY:Clubmeisterschaft Mixed mit anschließendem Sommerfest
DESCRIPTION:
URL:https://tc-eurasburg.de/event/clubmeisterschaft-mixed-mit-anschliessendem-sommerfest
END:VEVENT
BEGIN:VEVENT
DTSTART;TZID=Europe/Berlin:20250712T093000
DTEND;TZID=Europe/Berlin:20250712T170000
DTSTAMP:20260421T174810
CREATED:20250507T164601Z
LAST-MODIFIED:20250507T164603Z
UID:2296-1752312600-1752339600@tc-eurasburg.de
SUMMARY:Kinder-Jugend-Sommercamp 2025
DESCRIPTION:
URL:https://tc-eurasburg.de/event/kinder-jugend-sommercamp-2025
END:VEVENT
BEGIN:VEVENT
DTSTART;TZID=Europe/Berlin:20250709T100000
DTEND;TZID=Europe/Berlin:20250709T140000
DTSTAMP:20260421T174810
CREATED:20250507T165637Z
LAST-MODIFIED:20250507T165639Z
UID:2312-1752055200-1752069600@tc-eurasburg.de
SUMMARY:Heimspiel H65 gegen TSV Hofoling
DESCRIPTION:
URL:https://tc-eurasburg.de/event/heimspiel-h65-gegen-tsv-hofoling
END:VEVENT
BEGIN:VEVENT
DTSTART;TZID=Europe/Berlin:20250709T080000
DTEND;TZID=Europe/Berlin:20250709T170000
DTSTAMP:20260421T174810
CREATED:20250709T141909Z
LAST-MODIFIED:20250709T141912Z
UID:2403-1752048000-1752080400@tc-eurasburg.de
SUMMARY:Medenspiel 2025
DESCRIPTION:Damen 50 Südliga 2 \n\n\n\n\n\nvon li nach re \n\n\n\nLisa Roth\, Regine Beck\, Kertin Vatterott ( Mannschaftsführerin) Melanie Lampert\, Renate Schibschid
URL:https://tc-eurasburg.de/event/medenspiel-2025
END:VEVENT
BEGIN:VEVENT
DTSTART;TZID=Europe/Berlin:20250705T130000
DTEND;TZID=Europe/Berlin:20250705T170000
DTSTAMP:20260421T174810
CREATED:20250507T165244Z
LAST-MODIFIED:20250507T165245Z
UID:2308-1751720400-1751734800@tc-eurasburg.de
SUMMARY:Heimspiel D50 gegen TC Großhessellohe II
DESCRIPTION:
URL:https://tc-eurasburg.de/event/heimspiel-d50-gegen-tc-grosshessellohe-ii
END:VEVENT
BEGIN:VEVENT
DTSTART;TZID=Europe/Berlin:20250629T100000
DTEND;TZID=Europe/Berlin:20250629T170000
DTSTAMP:20260421T174810
CREATED:20250507T164230Z
LAST-MODIFIED:20250507T164234Z
UID:2288-1751191200-1751216400@tc-eurasburg.de
SUMMARY:Clubmeisterschaft Damen Einzel/Doppel
DESCRIPTION:
URL:https://tc-eurasburg.de/event/clubmeisterschaft-damen-einzel-doppel
END:VEVENT
BEGIN:VEVENT
DTSTART;TZID=Europe/Berlin:20250628T130000
DTEND;TZID=Europe/Berlin:20250628T170000
DTSTAMP:20260421T174810
CREATED:20250514T125333Z
LAST-MODIFIED:20250514T125333Z
UID:2306-1751115600-1751130000@tc-eurasburg.de
SUMMARY:Heimspiel D50 gegen DJK Würmtal München
DESCRIPTION:
URL:https://tc-eurasburg.de/event/heimspiel-d50-gegen-djk-wuermtal-muenchen
CATEGORIES:Damen 50,Offiziell
END:VEVENT
BEGIN:VEVENT
DTSTART;TZID=Europe/Berlin:20250528T100000
DTEND;TZID=Europe/Berlin:20250528T140000
DTSTAMP:20260421T174810
CREATED:20250507T165450Z
LAST-MODIFIED:20250518T093538Z
UID:2310-1748426400-1748440800@tc-eurasburg.de
SUMMARY:Heimspiel H65 gegen Polizei SV Haar II
DESCRIPTION:
URL:https://tc-eurasburg.de/event/heimspiel-h65-gegen-polizei-sv-haar-ii
END:VEVENT
BEGIN:VEVENT
DTSTART;TZID=Europe/Berlin:20250517T130000
DTEND;TZID=Europe/Berlin:20250517T170000
DTSTAMP:20260421T174810
CREATED:20250510T130151Z
LAST-MODIFIED:20250522T132208Z
UID:2320-1747486800-1747501200@tc-eurasburg.de
SUMMARY:Heimspiel D50 gegen TC Murnau
DESCRIPTION:4 : 2 gegen Murnau gewonnen  \n\n\n\n\n\n\n\n\nD 50 Mannschaft
URL:https://tc-eurasburg.de/event/heimspiel-d50-gegen-tc-murnau
END:VEVENT
BEGIN:VEVENT
DTSTART;TZID=Europe/Berlin:20250412T103000
DTEND;TZID=Europe/Berlin:20250412T160000
DTSTAMP:20260421T174810
CREATED:20250408T120256Z
LAST-MODIFIED:20250408T120258Z
UID:2248-1744453800-1744473600@tc-eurasburg.de
SUMMARY:Saisoneröffnung am 12.April 2025
DESCRIPTION:
URL:https://tc-eurasburg.de/event/saisoneroeffnung-am-12-april-2025
END:VEVENT
BEGIN:VEVENT
DTSTART;TZID=Europe/Berlin:20250320T200000
DTEND;TZID=Europe/Berlin:20250320T220000
DTSTAMP:20260421T174810
CREATED:20250313T133359Z
LAST-MODIFIED:20250331T152641Z
UID:2198-1742500800-1742508000@tc-eurasburg.de
SUMMARY:Mitgliederversammlung am 20.03.2025
DESCRIPTION:Wiederwahl zur Vorstandschaft
URL:https://tc-eurasburg.de/event/mitgliederversammlung-am-20-03-2025
END:VEVENT
BEGIN:VEVENT
DTSTART;TZID=Europe/Berlin:20250313T200000
DTEND;TZID=Europe/Berlin:20250313T220000
DTSTAMP:20260421T174810
CREATED:20250320T190049Z
LAST-MODIFIED:20250313T132647Z
UID:2193-1741896000-1741903200@tc-eurasburg.de
SUMMARY:Mitgliederversammlung
DESCRIPTION:im Clubhaus am 20.03.2025 \n\n\n\n20.00 bis 22.00 Uhr
URL:https://tc-eurasburg.de/event/mitgliederversammlung
END:VEVENT
BEGIN:VEVENT
DTSTART;TZID=Europe/Berlin:20241207T160000
DTEND;TZID=Europe/Berlin:20241207T193000
DTSTAMP:20260421T174810
CREATED:20231221T212149Z
LAST-MODIFIED:20231221T214736Z
UID:1616-1733587200-1733599800@tc-eurasburg.de
SUMMARY:Santa Claus 2024
DESCRIPTION:
URL:https://tc-eurasburg.de/event/jahresabschlussfeier-2024
END:VEVENT
BEGIN:VEVENT
DTSTART;TZID=Europe/Berlin:20241026T100000
DTEND;TZID=Europe/Berlin:20241026T150000
DTSTAMP:20260421T174810
CREATED:20231221T211550Z
LAST-MODIFIED:20240904T143025Z
UID:1614-1729936800-1729954800@tc-eurasburg.de
SUMMARY:Anlage in den Winterschlaf - Saisonende 2024 mit Party
DESCRIPTION:
URL:https://tc-eurasburg.de/event/anlage-in-den-winterschlaf-saisonende-2024
END:VEVENT
BEGIN:VEVENT
DTSTART;TZID=Europe/Berlin:20241005T120000
DTEND;TZID=Europe/Berlin:20241005T190000
DTSTAMP:20260421T174810
CREATED:20231221T204853Z
LAST-MODIFIED:20240904T143158Z
UID:1604-1728129600-1728154800@tc-eurasburg.de
SUMMARY:Finale - Clubmeisterschaften 2024
DESCRIPTION:
URL:https://tc-eurasburg.de/event/finale-clubmeisterschaften-2024
END:VEVENT
BEGIN:VEVENT
DTSTART;TZID=Europe/Berlin:20240921T103000
DTEND;TZID=Europe/Berlin:20240921T150000
DTSTAMP:20260421T174810
CREATED:20231221T204728Z
LAST-MODIFIED:20231226T074348Z
UID:1602-1726914600-1726930800@tc-eurasburg.de
SUMMARY:Kartoffelturnier 2024
DESCRIPTION:
URL:https://tc-eurasburg.de/event/kartoffelturnier-2023
END:VEVENT
BEGIN:VEVENT
DTSTART;TZID=Europe/Berlin:20240914T100000
DTEND;TZID=Europe/Berlin:20240914T170000
DTSTAMP:20260421T174810
CREATED:20240904T143413Z
LAST-MODIFIED:20240904T143505Z
UID:1955-1726308000-1726333200@tc-eurasburg.de
SUMMARY:Clubmeisterschaft Jugend 2024
DESCRIPTION:
URL:https://tc-eurasburg.de/event/clubmeisterschaft-jugend-2024
END:VEVENT
BEGIN:VEVENT
DTSTART;TZID=Europe/Berlin:20240831T100000
DTEND;TZID=Europe/Berlin:20240831T170000
DTSTAMP:20260421T174810
CREATED:20231221T204508Z
LAST-MODIFIED:20231226T074406Z
UID:1600-1725098400-1725123600@tc-eurasburg.de
SUMMARY:Otto-Schiller-Pokal 2024
DESCRIPTION:Senioren-Turnier
URL:https://tc-eurasburg.de/event/otto-schiller-pokal
END:VEVENT
BEGIN:VEVENT
DTSTART;TZID=Europe/Berlin:20240726T130000
DTEND;TZID=Europe/Berlin:20240726T190000
DTSTAMP:20260421T174810
CREATED:20231221T202845Z
LAST-MODIFIED:20231221T202846Z
UID:1597-1721998800-1722020400@tc-eurasburg.de
SUMMARY:IWIS Turnier 2024
DESCRIPTION:
URL:https://tc-eurasburg.de/event/iwis-turnier-2024
END:VEVENT
BEGIN:VEVENT
DTSTART;TZID=Europe/Berlin:20240714T150000
DTEND;TZID=Europe/Berlin:20240714T180000
DTSTAMP:20260421T174810
CREATED:20231221T210947Z
LAST-MODIFIED:20231221T210949Z
UID:1612-1720969200-1720980000@tc-eurasburg.de
SUMMARY:Wimbledon Finale im Clubhaus
DESCRIPTION:
URL:https://tc-eurasburg.de/event/wimbledon-finale-im-clubhaus
END:VEVENT
BEGIN:VEVENT
DTSTART;TZID=Europe/Berlin:20240616T100000
DTEND;TZID=Europe/Berlin:20240616T100000
DTSTAMP:20260421T174810
CREATED:20231221T205413Z
LAST-MODIFIED:20240626T145648Z
UID:1608-1718532000-1718532000@tc-eurasburg.de
SUMMARY:Tenniscamp! Jugend/Kinder 2024
DESCRIPTION:Freitag 12.Juli um 15.00 Uhr und Samstag 13.Juli 2024 um 10.00 Uhr bis 16.00 Uhr
URL:https://tc-eurasburg.de/event/tenniscamp-jugend-kinder
CATEGORIES:Jugend,Kinder
END:VEVENT
BEGIN:VEVENT
DTSTART;TZID=Europe/Berlin:20240428T100000
DTEND;TZID=Europe/Berlin:20240428T170000
DTSTAMP:20260421T174810
CREATED:20231221T201912Z
LAST-MODIFIED:20240422T091700Z
UID:1592-1714298400-1714323600@tc-eurasburg.de
SUMMARY:Saisoneröffnung - Schleiferlturnier 2024
DESCRIPTION:
URL:https://tc-eurasburg.de/event/schleiferlturnier-2023
END:VEVENT
BEGIN:VEVENT
DTSTART;TZID=Europe/Berlin:20240413T100000
DTEND;TZID=Europe/Berlin:20240413T170000
DTSTAMP:20260421T174810
CREATED:20231221T202101Z
LAST-MODIFIED:20231221T202524Z
UID:1594-1713002400-1713027600@tc-eurasburg.de
SUMMARY:Platzinstandsetzung 2024
DESCRIPTION:Viele Hände schaffen ein schnelles Ende…
URL:https://tc-eurasburg.de/event/platzinstandsetzung-2024
END:VEVENT
END:VCALENDAR