BEGIN:VCALENDAR
VERSION:2.0
PRODID:-//Tennisclub Eurasburg e.V. - ECPv6.15.20//NONSGML v1.0//EN
CALSCALE:GREGORIAN
METHOD:PUBLISH
X-ORIGINAL-URL:https://tc-eurasburg.de
X-WR-CALDESC:Veranstaltungen für Tennisclub Eurasburg e.V.
REFRESH-INTERVAL;VALUE=DURATION:PT1H
X-Robots-Tag:noindex
X-PUBLISHED-TTL:PT1H
BEGIN:VTIMEZONE
TZID:Europe/Berlin
BEGIN:DAYLIGHT
TZOFFSETFROM:+0100
TZOFFSETTO:+0200
TZNAME:CEST
DTSTART:20240331T010000
END:DAYLIGHT
BEGIN:STANDARD
TZOFFSETFROM:+0200
TZOFFSETTO:+0100
TZNAME:CET
DTSTART:20241027T010000
END:STANDARD
BEGIN:DAYLIGHT
TZOFFSETFROM:+0100
TZOFFSETTO:+0200
TZNAME:CEST
DTSTART:20250330T010000
END:DAYLIGHT
BEGIN:STANDARD
TZOFFSETFROM:+0200
TZOFFSETTO:+0100
TZNAME:CET
DTSTART:20251026T010000
END:STANDARD
BEGIN:DAYLIGHT
TZOFFSETFROM:+0100
TZOFFSETTO:+0200
TZNAME:CEST
DTSTART:20260329T010000
END:DAYLIGHT
BEGIN:STANDARD
TZOFFSETFROM:+0200
TZOFFSETTO:+0100
TZNAME:CET
DTSTART:20261025T010000
END:STANDARD
END:VTIMEZONE
BEGIN:VEVENT
DTSTART;TZID=Europe/Berlin:20250517T130000
DTEND;TZID=Europe/Berlin:20250517T170000
DTSTAMP:20260425T220228
CREATED:20250510T130151Z
LAST-MODIFIED:20250522T132208Z
UID:2320-1747486800-1747501200@tc-eurasburg.de
SUMMARY:Heimspiel D50 gegen TC Murnau
DESCRIPTION:4 : 2 gegen Murnau gewonnen  \n\n\n\n\n\n\n\n\nD 50 Mannschaft
URL:https://tc-eurasburg.de/event/heimspiel-d50-gegen-tc-murnau
END:VEVENT
BEGIN:VEVENT
DTSTART;TZID=Europe/Berlin:20250528T100000
DTEND;TZID=Europe/Berlin:20250528T140000
DTSTAMP:20260425T220228
CREATED:20250507T165450Z
LAST-MODIFIED:20250518T093538Z
UID:2310-1748426400-1748440800@tc-eurasburg.de
SUMMARY:Heimspiel H65 gegen Polizei SV Haar II
DESCRIPTION:
URL:https://tc-eurasburg.de/event/heimspiel-h65-gegen-polizei-sv-haar-ii
END:VEVENT
END:VCALENDAR