BEGIN:VCALENDAR
VERSION:2.0
PRODID:-//Tennisclub Eurasburg e.V. - ECPv6.15.20//NONSGML v1.0//EN
CALSCALE:GREGORIAN
METHOD:PUBLISH
X-ORIGINAL-URL:https://tc-eurasburg.de
X-WR-CALDESC:Veranstaltungen für Tennisclub Eurasburg e.V.
REFRESH-INTERVAL;VALUE=DURATION:PT1H
X-Robots-Tag:noindex
X-PUBLISHED-TTL:PT1H
BEGIN:VTIMEZONE
TZID:Europe/Berlin
BEGIN:DAYLIGHT
TZOFFSETFROM:+0100
TZOFFSETTO:+0200
TZNAME:CEST
DTSTART:20250330T010000
END:DAYLIGHT
BEGIN:STANDARD
TZOFFSETFROM:+0200
TZOFFSETTO:+0100
TZNAME:CET
DTSTART:20251026T010000
END:STANDARD
BEGIN:DAYLIGHT
TZOFFSETFROM:+0100
TZOFFSETTO:+0200
TZNAME:CEST
DTSTART:20260329T010000
END:DAYLIGHT
BEGIN:STANDARD
TZOFFSETFROM:+0200
TZOFFSETTO:+0100
TZNAME:CET
DTSTART:20261025T010000
END:STANDARD
BEGIN:DAYLIGHT
TZOFFSETFROM:+0100
TZOFFSETTO:+0200
TZNAME:CEST
DTSTART:20270328T010000
END:DAYLIGHT
BEGIN:STANDARD
TZOFFSETFROM:+0200
TZOFFSETTO:+0100
TZNAME:CET
DTSTART:20271031T010000
END:STANDARD
END:VTIMEZONE
BEGIN:VEVENT
DTSTART;TZID=Europe/Berlin:20260425T140000
DTEND;TZID=Europe/Berlin:20260425T190000
DTSTAMP:20260421T161050
CREATED:20260404T135635Z
LAST-MODIFIED:20260404T135639Z
UID:2546-1777125600-1777143600@tc-eurasburg.de
SUMMARY:🎾SAISONERÖFFNUNG🎾
DESCRIPTION:Kaffee\,Kuchen\, von uns Mitgliedern\,  abends Suppen vom Helmut vorbereitet
URL:https://tc-eurasburg.de/event/%f0%9f%8e%besaisoneroeffnung%f0%9f%8e%be
END:VEVENT
END:VCALENDAR